BEGIN:VCALENDAR
VERSION:2.0
CALSCALE:GREGORIAN
PRODID:-//Diputació de Barcelona//DibaCMS//EN
BEGIN:VEVENT
UID:DI_15537@www.llicamunt.cat
DTSTAMP:20260422T140252
DTSTART:20260417T080000
DTEND:20260423T220000
SUMMARY:Farmàcia M. Codina
LOCATION:
METHOD:PUBLISH
X-WR-CALNAME:ajuntament@llicamunt.cat
X-WR-TIMEZONE:Europe/Madrid
DESCRIPTION:
URI:https://www.llicamunt.cat/el-municipi/telefons-i-adreces-dinteres/farmacia-m-codina
CLASS:PUBLIC
END:VEVENT
BEGIN:VEVENT
UID:DI_15538@www.llicamunt.cat
DTSTAMP:20260422T140252
DTSTART:20260424T080000
DTEND:20260430T220000
SUMMARY:Farmàcia R. Mas
LOCATION:
METHOD:PUBLISH
X-WR-CALNAME:ajuntament@llicamunt.cat
X-WR-TIMEZONE:Europe/Madrid
DESCRIPTION:
URI:https://www.llicamunt.cat/el-municipi/telefons-i-adreces-dinteres/farmacia-mas
CLASS:PUBLIC
END:VEVENT
BEGIN:VEVENT
UID:DI_15539@www.llicamunt.cat
DTSTAMP:20260422T140252
DTSTART:20260501T080000
DTEND:20260507T220000
SUMMARY:Farmàcia M. Vela (Santa Eulàlia de Ronçana) 
LOCATION:
METHOD:PUBLISH
X-WR-CALNAME:ajuntament@llicamunt.cat
X-WR-TIMEZONE:Europe/Madrid
DESCRIPTION:
URI:https://www.llicamunt.cat/temes/salut/farmacies-de-guardia-diurnes-de-la-vall-del-tenes-/farmacia-m-vela-santa-eulalia-de-roncana-.html
CLASS:PUBLIC
END:VEVENT
BEGIN:VEVENT
UID:DI_15540@www.llicamunt.cat
DTSTAMP:20260422T140252
DTSTART:20260508T080000
DTEND:20260514T220000
SUMMARY:Farmàcia N-J Rubio Esplugas (Lliçà de Vall) 
LOCATION:
METHOD:PUBLISH
X-WR-CALNAME:ajuntament@llicamunt.cat
X-WR-TIMEZONE:Europe/Madrid
DESCRIPTION:
URI:https://www.llicamunt.cat/temes/salut/farmacies-de-guardia-diurnes-de-la-vall-del-tenes-/farmacia-n-j-rubio-esplugas-llica-de-vall-.html
CLASS:PUBLIC
END:VEVENT
BEGIN:VEVENT
UID:DI_15541@www.llicamunt.cat
DTSTAMP:20260422T140252
DTSTART:20260515T080000
DTEND:20260521T220000
SUMMARY:Farmàcia J. Torras (Bigues i Riells del Fai) 
LOCATION:
METHOD:PUBLISH
X-WR-CALNAME:ajuntament@llicamunt.cat
X-WR-TIMEZONE:Europe/Madrid
DESCRIPTION:
URI:https://www.llicamunt.cat/temes/salut/farmacies-de-guardia-diurnes-de-la-vall-del-tenes-/farmacia-j-torras-bigues-i-riells-del-fai-.html
CLASS:PUBLIC
END:VEVENT
BEGIN:VEVENT
UID:DI_15542@www.llicamunt.cat
DTSTAMP:20260422T140252
DTSTART:20260522T080000
DTEND:20260528T060000
SUMMARY:Farmàcia D.  Pinin  
LOCATION:
METHOD:PUBLISH
X-WR-CALNAME:ajuntament@llicamunt.cat
X-WR-TIMEZONE:Europe/Madrid
DESCRIPTION:
URI:https://www.llicamunt.cat/el-municipi/telefons-i-adreces-dinteres/farmacia-d-pinin
CLASS:PUBLIC
END:VEVENT
BEGIN:VEVENT
UID:DI_15543@www.llicamunt.cat
DTSTAMP:20260422T140252
DTSTART:20260529T080000
DTEND:20260604T220000
SUMMARY:Farmàcia M.  Trullols  
LOCATION:
METHOD:PUBLISH
X-WR-CALNAME:ajuntament@llicamunt.cat
X-WR-TIMEZONE:Europe/Madrid
DESCRIPTION:
URI:https://www.llicamunt.cat/el-municipi/telefons-i-adreces-dinteres/farmacia-trullols
CLASS:PUBLIC
END:VEVENT
BEGIN:VEVENT
UID:DI_15544@www.llicamunt.cat
DTSTAMP:20260422T140252
DTSTART:20260605T080000
DTEND:20260611T220000
SUMMARY:Farmàcia N. Salayet (Santa Eulàlia de Ronçana) 
LOCATION:
METHOD:PUBLISH
X-WR-CALNAME:ajuntament@llicamunt.cat
X-WR-TIMEZONE:Europe/Madrid
DESCRIPTION:
URI:https://www.llicamunt.cat/temes/salut/farmacies-de-guardia-diurnes-de-la-vall-del-tenes-/farmacia-n-salayet-santa-eulalia-de-roncana-.html
CLASS:PUBLIC
END:VEVENT
BEGIN:VEVENT
UID:DI_15545@www.llicamunt.cat
DTSTAMP:20260422T140252
DTSTART:20260612T080000
DTEND:20260618T220000
SUMMARY:Farmàcia M. Sayós  
LOCATION:
METHOD:PUBLISH
X-WR-CALNAME:ajuntament@llicamunt.cat
X-WR-TIMEZONE:Europe/Madrid
DESCRIPTION:
URI:https://www.llicamunt.cat/el-municipi/telefons-i-adreces-dinteres/farmacia-m-sayos
CLASS:PUBLIC
END:VEVENT
BEGIN:VEVENT
UID:DI_15546@www.llicamunt.cat
DTSTAMP:20260422T140252
DTSTART:20260619T080000
DTEND:20260625T220000
SUMMARY:Farmàcia A. M. Ortiz (Bigues i Riells del Fai)  
LOCATION:
METHOD:PUBLISH
X-WR-CALNAME:ajuntament@llicamunt.cat
X-WR-TIMEZONE:Europe/Madrid
DESCRIPTION:
URI:https://www.llicamunt.cat/temes/salut/farmacies-de-guardia-diurnes-de-la-vall-del-tenes-/15546-farmacia-a-m-ortiz-bigues-i-riells-del-fai-.html
CLASS:PUBLIC
END:VEVENT
BEGIN:VEVENT
UID:DI_15547@www.llicamunt.cat
DTSTAMP:20260422T140252
DTSTART:20260626T085900
DTEND:20260702T220000
SUMMARY:Farmàcia A. Lozano 
LOCATION:
METHOD:PUBLISH
X-WR-CALNAME:ajuntament@llicamunt.cat
X-WR-TIMEZONE:Europe/Madrid
DESCRIPTION:
URI:https://www.llicamunt.cat/el-municipi/telefons-i-adreces-dinteres/farmacia-a-lozano
CLASS:PUBLIC
END:VEVENT
BEGIN:VEVENT
UID:DI_15548@www.llicamunt.cat
DTSTAMP:20260422T140252
DTSTART:20260703T080000
DTEND:20260709T220000
SUMMARY:Farmàcia M. Isern (Lliçà de Vall) 
LOCATION:
METHOD:PUBLISH
X-WR-CALNAME:ajuntament@llicamunt.cat
X-WR-TIMEZONE:Europe/Madrid
DESCRIPTION:
URI:https://www.llicamunt.cat/temes/salut/farmacies-de-guardia-diurnes-de-la-vall-del-tenes-/farmacia-m-isern-llica-de-vall-.html
CLASS:PUBLIC
END:VEVENT
BEGIN:VEVENT
UID:DI_15549@www.llicamunt.cat
DTSTAMP:20260422T140252
DTSTART:20260710T080000
DTEND:20260716T220000
SUMMARY:Farmàcia J. Serra (Bigues i Riells del Fai)  
LOCATION:
METHOD:PUBLISH
X-WR-CALNAME:ajuntament@llicamunt.cat
X-WR-TIMEZONE:Europe/Madrid
DESCRIPTION:
URI:https://www.llicamunt.cat/temes/salut/farmacies-de-guardia-diurnes-de-la-vall-del-tenes-/15549-farmacia-j-serra-bigues-i-riells-del-fai-.html
CLASS:PUBLIC
END:VEVENT
BEGIN:VEVENT
UID:DI_15550@www.llicamunt.cat
DTSTAMP:20260422T140252
DTSTART:20260717T080000
DTEND:20260723T220000
SUMMARY:Farmàcia M. Codina
LOCATION:
METHOD:PUBLISH
X-WR-CALNAME:ajuntament@llicamunt.cat
X-WR-TIMEZONE:Europe/Madrid
DESCRIPTION:
URI:https://www.llicamunt.cat/el-municipi/telefons-i-adreces-dinteres/farmacia-m-codina
CLASS:PUBLIC
END:VEVENT
BEGIN:VEVENT
UID:DI_15551@www.llicamunt.cat
DTSTAMP:20260422T140252
DTSTART:20260724T080000
DTEND:20260730T220000
SUMMARY:Farmàcia R. Mas 
LOCATION:
METHOD:PUBLISH
X-WR-CALNAME:ajuntament@llicamunt.cat
X-WR-TIMEZONE:Europe/Madrid
DESCRIPTION:
URI:https://www.llicamunt.cat/el-municipi/telefons-i-adreces-dinteres/farmacia-mas
CLASS:PUBLIC
END:VEVENT
BEGIN:VEVENT
UID:DI_15552@www.llicamunt.cat
DTSTAMP:20260422T140252
DTSTART:20260731T080000
DTEND:20260806T220000
SUMMARY:Farmàcia M. Vela (Santa Eulàlia de Ronçana) 
LOCATION:
METHOD:PUBLISH
X-WR-CALNAME:ajuntament@llicamunt.cat
X-WR-TIMEZONE:Europe/Madrid
DESCRIPTION:
URI:https://www.llicamunt.cat/temes/salut/farmacies-de-guardia-diurnes-de-la-vall-del-tenes-/15552-farmacia-m-vela-santa-eulalia-de-roncana-.html
CLASS:PUBLIC
END:VEVENT
BEGIN:VEVENT
UID:DI_15553@www.llicamunt.cat
DTSTAMP:20260422T140252
DTSTART:20260807T080000
DTEND:20260813T220000
SUMMARY:Farmàcia N-J Rubio Esplugas (Lliçà de Vall)  
LOCATION:
METHOD:PUBLISH
X-WR-CALNAME:ajuntament@llicamunt.cat
X-WR-TIMEZONE:Europe/Madrid
DESCRIPTION:
URI:https://www.llicamunt.cat/temes/salut/farmacies-de-guardia-diurnes-de-la-vall-del-tenes-/15553-farmacia-n-j-rubio-esplugas-llica-de-vall-.html
CLASS:PUBLIC
END:VEVENT
BEGIN:VEVENT
UID:DI_15554@www.llicamunt.cat
DTSTAMP:20260422T140252
DTSTART:20260814T080000
DTEND:20260820T220000
SUMMARY:Farmàcia J. Torras (Bigues i Riells del Fai) 
LOCATION:
METHOD:PUBLISH
X-WR-CALNAME:ajuntament@llicamunt.cat
X-WR-TIMEZONE:Europe/Madrid
DESCRIPTION:
URI:https://www.llicamunt.cat/temes/salut/farmacies-de-guardia-diurnes-de-la-vall-del-tenes-/15554-farmacia-j-torras-bigues-i-riells-del-fai-.html
CLASS:PUBLIC
END:VEVENT
BEGIN:VEVENT
UID:DI_15555@www.llicamunt.cat
DTSTAMP:20260422T140252
DTSTART:20260821T080000
DTEND:20260827T060000
SUMMARY:Farmàcia D.  Pinin   
LOCATION:
METHOD:PUBLISH
X-WR-CALNAME:ajuntament@llicamunt.cat
X-WR-TIMEZONE:Europe/Madrid
DESCRIPTION:
URI:https://www.llicamunt.cat/el-municipi/telefons-i-adreces-dinteres/farmacia-d-pinin
CLASS:PUBLIC
END:VEVENT
BEGIN:VEVENT
UID:DI_15568@www.llicamunt.cat
DTSTAMP:20260422T140252
DTSTART:20260821T080000
DTEND:20260827T060000
SUMMARY:Farmàcia D.  Pinin    - duplicat
LOCATION:
METHOD:PUBLISH
X-WR-CALNAME:ajuntament@llicamunt.cat
X-WR-TIMEZONE:Europe/Madrid
DESCRIPTION:
URI:https://www.llicamunt.cat/el-municipi/telefons-i-adreces-dinteres/farmacia-d-pinin
CLASS:PUBLIC
END:VEVENT
BEGIN:VEVENT
UID:DI_15556@www.llicamunt.cat
DTSTAMP:20260422T140252
DTSTART:20260828T080000
DTEND:20260903T220000
SUMMARY:Farmàcia M.  Trullols  
LOCATION:
METHOD:PUBLISH
X-WR-CALNAME:ajuntament@llicamunt.cat
X-WR-TIMEZONE:Europe/Madrid
DESCRIPTION:
URI:https://www.llicamunt.cat/el-municipi/telefons-i-adreces-dinteres/farmacia-trullols
CLASS:PUBLIC
END:VEVENT
BEGIN:VEVENT
UID:DI_15557@www.llicamunt.cat
DTSTAMP:20260422T140252
DTSTART:20260904T080000
DTEND:20260910T220000
SUMMARY:Farmàcia N. Salayet (Santa Eulàlia de Ronçana) 
LOCATION:
METHOD:PUBLISH
X-WR-CALNAME:ajuntament@llicamunt.cat
X-WR-TIMEZONE:Europe/Madrid
DESCRIPTION:
URI:https://www.llicamunt.cat/temes/salut/farmacies-de-guardia-diurnes-de-la-vall-del-tenes-/15557-farmacia-n-salayet-santa-eulalia-de-roncana-.html
CLASS:PUBLIC
END:VEVENT
BEGIN:VEVENT
UID:DI_15558@www.llicamunt.cat
DTSTAMP:20260422T140252
DTSTART:20260911T080000
DTEND:20260917T220000
SUMMARY:Farmàcia M. Sayós 
LOCATION:
METHOD:PUBLISH
X-WR-CALNAME:ajuntament@llicamunt.cat
X-WR-TIMEZONE:Europe/Madrid
DESCRIPTION:
URI:https://www.llicamunt.cat/el-municipi/telefons-i-adreces-dinteres/farmacia-m-sayos
CLASS:PUBLIC
END:VEVENT
BEGIN:VEVENT
UID:DI_15559@www.llicamunt.cat
DTSTAMP:20260422T140252
DTSTART:20260918T080000
DTEND:20260924T220000
SUMMARY:Farmàcia A. M. Ortiz (Bigues i Riells del Fai)   
LOCATION:
METHOD:PUBLISH
X-WR-CALNAME:ajuntament@llicamunt.cat
X-WR-TIMEZONE:Europe/Madrid
DESCRIPTION:
URI:https://www.llicamunt.cat/temes/salut/farmacies-de-guardia-diurnes-de-la-vall-del-tenes-/15559-farmacia-a-m-ortiz-bigues-i-riells-del-fai-.html
CLASS:PUBLIC
END:VEVENT
BEGIN:VEVENT
UID:DI_15560@www.llicamunt.cat
DTSTAMP:20260422T140252
DTSTART:20260925T085900
DTEND:20261001T220000
SUMMARY:Farmàcia A. Lozano
LOCATION:
METHOD:PUBLISH
X-WR-CALNAME:ajuntament@llicamunt.cat
X-WR-TIMEZONE:Europe/Madrid
DESCRIPTION:
URI:https://www.llicamunt.cat/el-municipi/telefons-i-adreces-dinteres/farmacia-a-lozano
CLASS:PUBLIC
END:VEVENT
BEGIN:VEVENT
UID:DI_15561@www.llicamunt.cat
DTSTAMP:20260422T140252
DTSTART:20261002T080000
DTEND:20261008T220000
SUMMARY:Farmàcia M. Isern (Lliçà de Vall)
LOCATION:
METHOD:PUBLISH
X-WR-CALNAME:ajuntament@llicamunt.cat
X-WR-TIMEZONE:Europe/Madrid
DESCRIPTION:
URI:https://www.llicamunt.cat/temes/salut/farmacies-de-guardia-diurnes-de-la-vall-del-tenes-/15561-farmacia-m-isern-llica-de-vall.html
CLASS:PUBLIC
END:VEVENT
BEGIN:VEVENT
UID:DI_15562@www.llicamunt.cat
DTSTAMP:20260422T140252
DTSTART:20261009T080000
DTEND:20261015T220000
SUMMARY:Farmàcia J. Serra (Bigues i Riells del Fai)  
LOCATION:
METHOD:PUBLISH
X-WR-CALNAME:ajuntament@llicamunt.cat
X-WR-TIMEZONE:Europe/Madrid
DESCRIPTION:
URI:https://www.llicamunt.cat/temes/salut/farmacies-de-guardia-diurnes-de-la-vall-del-tenes-/15562-farmacia-j-serra-bigues-i-riells-del-fai-.html
CLASS:PUBLIC
END:VEVENT
BEGIN:VEVENT
UID:DI_15563@www.llicamunt.cat
DTSTAMP:20260422T140252
DTSTART:20261016T080000
DTEND:20261022T220000
SUMMARY:Farmàcia M. Codina 
LOCATION:
METHOD:PUBLISH
X-WR-CALNAME:ajuntament@llicamunt.cat
X-WR-TIMEZONE:Europe/Madrid
DESCRIPTION:
URI:https://www.llicamunt.cat/el-municipi/telefons-i-adreces-dinteres/farmacia-m-codina
CLASS:PUBLIC
END:VEVENT
BEGIN:VEVENT
UID:DI_15564@www.llicamunt.cat
DTSTAMP:20260422T140252
DTSTART:20261023T080000
DTEND:20261029T220000
SUMMARY:Farmàcia R. Mas 
LOCATION:
METHOD:PUBLISH
X-WR-CALNAME:ajuntament@llicamunt.cat
X-WR-TIMEZONE:Europe/Madrid
DESCRIPTION:
URI:https://www.llicamunt.cat/el-municipi/telefons-i-adreces-dinteres/farmacia-mas
CLASS:PUBLIC
END:VEVENT
BEGIN:VEVENT
UID:DI_15565@www.llicamunt.cat
DTSTAMP:20260422T140252
DTSTART:20261030T080000
DTEND:20261105T080000
SUMMARY:Farmàcia M. Vela (Santa Eulàlia de Ronçana) 
LOCATION:
METHOD:PUBLISH
X-WR-CALNAME:ajuntament@llicamunt.cat
X-WR-TIMEZONE:Europe/Madrid
DESCRIPTION:
URI:https://www.llicamunt.cat/temes/salut/farmacies-de-guardia-diurnes-de-la-vall-del-tenes-/15565-farmacia-m-vela-santa-eulalia-de-roncana-.html
CLASS:PUBLIC
END:VEVENT
BEGIN:VEVENT
UID:DI_15566@www.llicamunt.cat
DTSTAMP:20260422T140252
DTSTART:20261106T080000
DTEND:20261112T220000
SUMMARY:Farmàcia N-J Rubio Esplugas (Lliçà de Vall)   
LOCATION:
METHOD:PUBLISH
X-WR-CALNAME:ajuntament@llicamunt.cat
X-WR-TIMEZONE:Europe/Madrid
DESCRIPTION:
URI:https://www.llicamunt.cat/temes/salut/farmacies-de-guardia-diurnes-de-la-vall-del-tenes-/15566-farmacia-n-j-rubio-esplugas-llica-de-vall-.html
CLASS:PUBLIC
END:VEVENT
BEGIN:VEVENT
UID:DI_15567@www.llicamunt.cat
DTSTAMP:20260422T140252
DTSTART:20261113T080000
DTEND:20261119T220000
SUMMARY:Farmàcia J. Torras (Bigues i Riells del Fai) 
LOCATION:
METHOD:PUBLISH
X-WR-CALNAME:ajuntament@llicamunt.cat
X-WR-TIMEZONE:Europe/Madrid
DESCRIPTION:
URI:https://www.llicamunt.cat/temes/salut/farmacies-de-guardia-diurnes-de-la-vall-del-tenes-/15567-farmacia-j-torras-bigues-i-riells-del-fai-.html
CLASS:PUBLIC
END:VEVENT
BEGIN:VEVENT
UID:DI_15569@www.llicamunt.cat
DTSTAMP:20260422T140252
DTSTART:20261127T080000
DTEND:20261203T220000
SUMMARY:Farmàcia M.  Trullols
LOCATION:
METHOD:PUBLISH
X-WR-CALNAME:ajuntament@llicamunt.cat
X-WR-TIMEZONE:Europe/Madrid
DESCRIPTION:
URI:https://www.llicamunt.cat/el-municipi/telefons-i-adreces-dinteres/farmacia-trullols
CLASS:PUBLIC
END:VEVENT
BEGIN:VEVENT
UID:DI_15570@www.llicamunt.cat
DTSTAMP:20260422T140252
DTSTART:20261204T080000
DTEND:20261210T220000
SUMMARY:Farmàcia N. Salayet (Santa Eulàlia de Ronçana)  
LOCATION:
METHOD:PUBLISH
X-WR-CALNAME:ajuntament@llicamunt.cat
X-WR-TIMEZONE:Europe/Madrid
DESCRIPTION:
URI:https://www.llicamunt.cat/temes/salut/farmacies-de-guardia-diurnes-de-la-vall-del-tenes-/15570-farmacia-n-salayet-santa-eulalia-de-roncana-.html
CLASS:PUBLIC
END:VEVENT
BEGIN:VEVENT
UID:DI_15571@www.llicamunt.cat
DTSTAMP:20260422T140252
DTSTART:20261211T080000
DTEND:20261217T220000
SUMMARY:Farmàcia M. Sayós  
LOCATION:
METHOD:PUBLISH
X-WR-CALNAME:ajuntament@llicamunt.cat
X-WR-TIMEZONE:Europe/Madrid
DESCRIPTION:
URI:https://www.llicamunt.cat/el-municipi/telefons-i-adreces-dinteres/farmacia-m-sayos
CLASS:PUBLIC
END:VEVENT
BEGIN:VEVENT
UID:DI_15572@www.llicamunt.cat
DTSTAMP:20260422T140252
DTSTART:20261218T080000
DTEND:20261224T220000
SUMMARY:Farmàcia A. M. Ortiz (Bigues i Riells del Fai)  
LOCATION:
METHOD:PUBLISH
X-WR-CALNAME:ajuntament@llicamunt.cat
X-WR-TIMEZONE:Europe/Madrid
DESCRIPTION:
URI:https://www.llicamunt.cat/temes/salut/farmacies-de-guardia-diurnes-de-la-vall-del-tenes-/15572-farmacia-a-m-ortiz-bigues-i-riells-del-fai-.html
CLASS:PUBLIC
END:VEVENT
BEGIN:VEVENT
UID:DI_15573@www.llicamunt.cat
DTSTAMP:20260422T140252
DTSTART:20261225T085900
DTEND:20261231T220000
SUMMARY:Farmàcia A. Lozano
LOCATION:
METHOD:PUBLISH
X-WR-CALNAME:ajuntament@llicamunt.cat
X-WR-TIMEZONE:Europe/Madrid
DESCRIPTION:
URI:https://www.llicamunt.cat/el-municipi/telefons-i-adreces-dinteres/farmacia-a-lozano
CLASS:PUBLIC
END:VEVENT
BEGIN:VEVENT
UID:DI_15574@www.llicamunt.cat
DTSTAMP:20260422T140252
DTSTART:20270101T080000
DTEND:20270107T220000
SUMMARY:Farmàcia M. Isern (Lliçà de Vall) 
LOCATION:
METHOD:PUBLISH
X-WR-CALNAME:ajuntament@llicamunt.cat
X-WR-TIMEZONE:Europe/Madrid
DESCRIPTION:
URI:https://www.llicamunt.cat/temes/salut/farmacies-de-guardia-diurnes-de-la-vall-del-tenes-/15574-farmacia-m-isern-llica-de-vall-.html
CLASS:PUBLIC
END:VEVENT
END:VCALENDAR
