BEGIN:VCALENDAR
VERSION:2.0
CALSCALE:GREGORIAN
PRODID:-//Diputació de Barcelona//DibaCMS//EN
BEGIN:VEVENT
UID:10578
DTSTAMP:20260424T143415
DTSTART:20201126T000000
DTEND:20201202T000000
SUMMARY:Curs SEOVT: Requisits legals i fiscals de la venda online
LOCATION:
METHOD:PUBLISH
X-WR-CALNAME:ajuntament@llicamunt.cat
X-WR-TIMEZONE:Europe/Madrid
DESCRIPTION:
URI:https://www.llicamunt.cat/actualitat/agenda/curs-seovt-requisits-legals-i-fiscals-de-la-venda-online.html
CLASS:PUBLIC
END:VEVENT
END:VCALENDAR
