BEGIN:VCALENDAR
VERSION:2.0
CALSCALE:GREGORIAN
PRODID:-//Diputació de Barcelona//DibaCMS//EN
BEGIN:VEVENT
UID:11882
DTSTAMP:20260421T101902
DTSTART:20220423T190000
DTEND:20220423T213000
SUMMARY:"Catalunya, princesa meva"
LOCATION:Plaça de l'Església 
METHOD:PUBLISH
X-WR-CALNAME:ajuntament@llicamunt.cat
X-WR-TIMEZONE:Europe/Madrid
DESCRIPTION:
URI:https://www.llicamunt.cat/actualitat/agenda/catalunya-princesa-meva.html
CLASS:PUBLIC
END:VEVENT
END:VCALENDAR
