BEGIN:VCALENDAR
VERSION:2.0
CALSCALE:GREGORIAN
PRODID:-//Diputació de Barcelona//DibaCMS//EN
BEGIN:VEVENT
UID:12117
DTSTAMP:20260424T200548
DTSTART:20221010T000000
DTEND:20221031T000000
SUMMARY:Projecte "Sóc dona!"
LOCATION:SEOVT 
METHOD:PUBLISH
X-WR-CALNAME:ajuntament@llicamunt.cat
X-WR-TIMEZONE:Europe/Madrid
DESCRIPTION:
URI:https://www.llicamunt.cat/actualitat/agenda/projecte-soc-dona.html
CLASS:PUBLIC
END:VEVENT
END:VCALENDAR
