BEGIN:VCALENDAR
VERSION:2.0
CALSCALE:GREGORIAN
PRODID:-//Diputació de Barcelona//DibaCMS//EN
BEGIN:VEVENT
UID:12972
DTSTAMP:20260422T105928
DTSTART:20230512T193000
DTEND:20230512T230000
SUMMARY:Sortim a Escema: “Carmina Burana”
LOCATION:Teatre Tívoli 
METHOD:PUBLISH
X-WR-CALNAME:ajuntament@llicamunt.cat
X-WR-TIMEZONE:Europe/Madrid
DESCRIPTION:
URI:https://www.llicamunt.cat/actualitat/agenda/sortim-a-escema-carmina-burana.html
CLASS:PUBLIC
END:VEVENT
END:VCALENDAR
