BEGIN:VCALENDAR
VERSION:2.0
CALSCALE:GREGORIAN
PRODID:-//Diputació de Barcelona//DibaCMS//EN
BEGIN:VEVENT
UID:13013
DTSTAMP:20260422T105557
DTSTART:20230508T000000
DTEND:20230529T000000
SUMMARY:SEOVT: Projecte Soc Dona
LOCATION:Plaça de la Vila, s/n, 2a planta 08186 Lliçà de Vall
METHOD:PUBLISH
X-WR-CALNAME:ajuntament@llicamunt.cat
X-WR-TIMEZONE:Europe/Madrid
DESCRIPTION:
URI:https://www.llicamunt.cat/actualitat/agenda/seovt-projecte-soc-dona.html
CLASS:PUBLIC
END:VEVENT
END:VCALENDAR
