BEGIN:VCALENDAR
VERSION:2.0
CALSCALE:GREGORIAN
PRODID:-//Diputació de Barcelona//DibaCMS//EN
BEGIN:VEVENT
UID:13037
DTSTAMP:20260422T105742
DTSTART:20230523T173000
DTEND:20230523T183000
SUMMARY:Xerrada educativa: Pas de primària a secundària
LOCATION:Telemàtica 
METHOD:PUBLISH
X-WR-CALNAME:ajuntament@llicamunt.cat
X-WR-TIMEZONE:Europe/Madrid
DESCRIPTION:
URI:https://www.llicamunt.cat/actualitat/agenda/xerrada-educativa-pas-de-primaria-a-secundaria.html
CLASS:PUBLIC
END:VEVENT
END:VCALENDAR
