BEGIN:VCALENDAR
VERSION:2.0
CALSCALE:GREGORIAN
PRODID:-//Diputació de Barcelona//DibaCMS//EN
BEGIN:VEVENT
UID:13038
DTSTAMP:20260422T105330
DTSTART:20230618T083000
DTEND:20230618T131500
SUMMARY:Copa Catalana de BMX
LOCATION:Circuit del club Tennis Ca l'Artigues 
METHOD:PUBLISH
X-WR-CALNAME:ajuntament@llicamunt.cat
X-WR-TIMEZONE:Europe/Madrid
DESCRIPTION:
URI:https://www.llicamunt.cat/actualitat/agenda/copa-catalana-de-bmx.html
CLASS:PUBLIC
END:VEVENT
END:VCALENDAR
