BEGIN:VCALENDAR
VERSION:2.0
CALSCALE:GREGORIAN
PRODID:-//Diputació de Barcelona//DibaCMS//EN
BEGIN:VEVENT
UID:13071
DTSTAMP:20260422T111022
DTSTART:20230613T173000
DTEND:20230613T200000
SUMMARY:Taller creatiu "Vesteix l'Olívia"
LOCATION:c. de Castelló de la Plana, 11 08186   Lliçà d'Amunt
METHOD:PUBLISH
X-WR-CALNAME:ajuntament@llicamunt.cat
X-WR-TIMEZONE:Europe/Madrid
DESCRIPTION:
URI:https://www.llicamunt.cat/actualitat/agenda/taller-creatiu-vesteix-lolivia.html
CLASS:PUBLIC
END:VEVENT
END:VCALENDAR
