BEGIN:VCALENDAR
VERSION:2.0
CALSCALE:GREGORIAN
PRODID:-//Diputació de Barcelona//DibaCMS//EN
BEGIN:VEVENT
UID:13074
DTSTAMP:20260422T105620
DTSTART:20230610T000000
DTEND:20230611T000000
SUMMARY:Festa "L'Avaiam Vice"
LOCATION:c. de l'Aliança, 17 08186 Lliçà d'Amunt
METHOD:PUBLISH
X-WR-CALNAME:ajuntament@llicamunt.cat
X-WR-TIMEZONE:Europe/Madrid
DESCRIPTION:
URI:https://www.llicamunt.cat/actualitat/agenda/festa-lavaiam-vice.html
CLASS:PUBLIC
END:VEVENT
END:VCALENDAR
