BEGIN:VCALENDAR
VERSION:2.0
CALSCALE:GREGORIAN
PRODID:-//Diputació de Barcelona//DibaCMS//EN
BEGIN:VEVENT
UID:13076
DTSTAMP:20260422T105403
DTSTART:20230612T000000
DTEND:20230620T235900
SUMMARY:Reunions informatives dels Casals d'estiu, esportiu i jove 2023
LOCATION:
METHOD:PUBLISH
X-WR-CALNAME:ajuntament@llicamunt.cat
X-WR-TIMEZONE:Europe/Madrid
DESCRIPTION:
URI:https://www.llicamunt.cat/actualitat/agenda/reunions-informatives-dels-casals-destiu-esportiu-i-jove-2023.html
CLASS:PUBLIC
END:VEVENT
END:VCALENDAR
