BEGIN:VCALENDAR
VERSION:2.0
CALSCALE:GREGORIAN
PRODID:-//Diputació de Barcelona//DibaCMS//EN
BEGIN:VEVENT
UID:13079
DTSTAMP:20260422T105439
DTSTART:20230617T120000
DTEND:20230617T140000
SUMMARY:Ple de constitució del nou Ajuntament 
LOCATION:c. de l'Aliança, 17 08186 Lliçà d'Amunt
METHOD:PUBLISH
X-WR-CALNAME:ajuntament@llicamunt.cat
X-WR-TIMEZONE:Europe/Madrid
DESCRIPTION:
URI:https://www.llicamunt.cat/actualitat/agenda/13079-ple-de-constitucio-del-nou-ajuntament-.html
CLASS:PUBLIC
END:VEVENT
END:VCALENDAR
