BEGIN:VCALENDAR
VERSION:2.0
CALSCALE:GREGORIAN
PRODID:-//Diputació de Barcelona//DibaCMS//EN
BEGIN:VEVENT
UID:13081
DTSTAMP:20260422T105853
DTSTART:20230617T110000
DTEND:20230617T130000
SUMMARY:Niu de paraules "Arran de mar"
LOCATION:c. de Castelló de la Plana, 11 08186   Lliçà d'Amunt
METHOD:PUBLISH
X-WR-CALNAME:ajuntament@llicamunt.cat
X-WR-TIMEZONE:Europe/Madrid
DESCRIPTION:
URI:https://www.llicamunt.cat/actualitat/agenda/niu-de-paraules-arran-de-mar.html
CLASS:PUBLIC
END:VEVENT
END:VCALENDAR
