BEGIN:VCALENDAR
VERSION:2.0
CALSCALE:GREGORIAN
PRODID:-//Diputació de Barcelona//DibaCMS//EN
BEGIN:VEVENT
UID:13083
DTSTAMP:20260422T105811
DTSTART:20230620T173000
DTEND:20230620T193000
SUMMARY:Trenes de fil
LOCATION:C/Castelló de la Plana, 11 08186   Lliçà d'Amunt
METHOD:PUBLISH
X-WR-CALNAME:ajuntament@llicamunt.cat
X-WR-TIMEZONE:Europe/Madrid
DESCRIPTION:
URI:https://www.llicamunt.cat/actualitat/agenda/trenes-de-fil.html
CLASS:PUBLIC
END:VEVENT
END:VCALENDAR
