BEGIN:VCALENDAR
VERSION:2.0
CALSCALE:GREGORIAN
PRODID:-//Diputació de Barcelona//DibaCMS//EN
BEGIN:VEVENT
UID:13112
DTSTAMP:20260422T133803
DTSTART:20230713T173000
DTEND:20230713T193000
SUMMARY:Tatoo d'henna
LOCATION:C/Castelló de la Plana, 11 08186   Lliçà d'Amunt
METHOD:PUBLISH
X-WR-CALNAME:ajuntament@llicamunt.cat
X-WR-TIMEZONE:Europe/Madrid
DESCRIPTION:
URI:https://www.llicamunt.cat/actualitat/agenda/tatoo-dhenna.html
CLASS:PUBLIC
END:VEVENT
END:VCALENDAR
