BEGIN:VCALENDAR
VERSION:2.0
CALSCALE:GREGORIAN
PRODID:-//Diputació de Barcelona//DibaCMS//EN
BEGIN:VEVENT
UID:13115
DTSTAMP:20260422T105348
DTSTART:20230720T203000
DTEND:20230720T220000
SUMMARY:Presentació de les 24 Hores de Resistència en Ciclomotor de la Vall del Tenes
LOCATION:c. de l'Aliança, 17 08186 Lliçà d'Amunt
METHOD:PUBLISH
X-WR-CALNAME:ajuntament@llicamunt.cat
X-WR-TIMEZONE:Europe/Madrid
DESCRIPTION:
URI:https://www.llicamunt.cat/actualitat/agenda/presentacio-de-les-24-hores-de-resistencia-en-ciclomotor-de-la-vall-del-tenes.html
CLASS:PUBLIC
END:VEVENT
END:VCALENDAR
