BEGIN:VCALENDAR
VERSION:2.0
CALSCALE:GREGORIAN
PRODID:-//Diputació de Barcelona//DibaCMS//EN
BEGIN:VEVENT
UID:13118
DTSTAMP:20260422T172848
DTSTART:20230727T173000
DTEND:20230727T193000
SUMMARY:Bingo musical
LOCATION:C/Castelló de la Plana, 11 08186   Lliçà d'Amunt
METHOD:PUBLISH
X-WR-CALNAME:ajuntament@llicamunt.cat
X-WR-TIMEZONE:Europe/Madrid
DESCRIPTION:
URI:https://www.llicamunt.cat/actualitat/agenda/bingo-musical.html
CLASS:PUBLIC
END:VEVENT
END:VCALENDAR
