BEGIN:VCALENDAR
VERSION:2.0
CALSCALE:GREGORIAN
PRODID:-//Diputació de Barcelona//DibaCMS//EN
BEGIN:VEVENT
UID:13144
DTSTAMP:20260424T160344
DTSTART:20230905T110000
DTEND:20230905T120000
SUMMARY:SEOVT - Programa Digitalització Empresarial (xerrada informativa)
LOCATION:En línia 
METHOD:PUBLISH
X-WR-CALNAME:ajuntament@llicamunt.cat
X-WR-TIMEZONE:Europe/Madrid
DESCRIPTION:
URI:https://www.llicamunt.cat/actualitat/agenda/seovt-programa-digitalitzacio-empresarial-xerrada-informativa.html
CLASS:PUBLIC
END:VEVENT
END:VCALENDAR
