BEGIN:VCALENDAR
VERSION:2.0
CALSCALE:GREGORIAN
PRODID:-//Diputació de Barcelona//DibaCMS//EN
BEGIN:VEVENT
UID:13149
DTSTAMP:20260424T121453
DTSTART:20230904T100000
DTEND:20230904T200000
SUMMARY:Per Festa Major, vine a donar sang 
LOCATION:c. de Castelló de la Plana, 11 08186   Lliçà d'Amunt
METHOD:PUBLISH
X-WR-CALNAME:ajuntament@llicamunt.cat
X-WR-TIMEZONE:Europe/Madrid
DESCRIPTION:
URI:https://www.llicamunt.cat/actualitat/agenda/per-festa-major-vine-a-donar-sang-.html
CLASS:PUBLIC
END:VEVENT
END:VCALENDAR
