BEGIN:VCALENDAR
VERSION:2.0
CALSCALE:GREGORIAN
PRODID:-//Diputació de Barcelona//DibaCMS//EN
BEGIN:VEVENT
UID:13159
DTSTAMP:20260424T184624
DTSTART:20230905T000000
DTEND:20230905T000000
SUMMARY:Agenda FM - dimarts 5 de setembre 
LOCATION:
METHOD:PUBLISH
X-WR-CALNAME:ajuntament@llicamunt.cat
X-WR-TIMEZONE:Europe/Madrid
DESCRIPTION:
URI:https://www.llicamunt.cat/actualitat/agenda/agenda-fm-dimarts-5-de-setembre-.html
CLASS:PUBLIC
END:VEVENT
END:VCALENDAR
