BEGIN:VCALENDAR
VERSION:2.0
CALSCALE:GREGORIAN
PRODID:-//Diputació de Barcelona//DibaCMS//EN
BEGIN:VEVENT
UID:13160
DTSTAMP:20260424T154917
DTSTART:20230906T000000
DTEND:20230906T000000
SUMMARY:Agenda FM - dimecres 6 de setembre 
LOCATION:
METHOD:PUBLISH
X-WR-CALNAME:ajuntament@llicamunt.cat
X-WR-TIMEZONE:Europe/Madrid
DESCRIPTION:
URI:https://www.llicamunt.cat/actualitat/agenda/agenda-fm-dimecres-6-de-setembre-.html
CLASS:PUBLIC
END:VEVENT
END:VCALENDAR
