BEGIN:VCALENDAR
VERSION:2.0
CALSCALE:GREGORIAN
PRODID:-//Diputació de Barcelona//DibaCMS//EN
BEGIN:VEVENT
UID:13162
DTSTAMP:20260424T143327
DTSTART:20230908T000000
DTEND:20230908T000000
SUMMARY:Agenda FM - divendres 8 de setembre 
LOCATION:
METHOD:PUBLISH
X-WR-CALNAME:ajuntament@llicamunt.cat
X-WR-TIMEZONE:Europe/Madrid
DESCRIPTION:
URI:https://www.llicamunt.cat/actualitat/agenda/agenda-fm-divendres-8-de-setembre-.html
CLASS:PUBLIC
END:VEVENT
END:VCALENDAR
