BEGIN:VCALENDAR
VERSION:2.0
CALSCALE:GREGORIAN
PRODID:-//Diputació de Barcelona//DibaCMS//EN
BEGIN:VEVENT
UID:13164
DTSTAMP:20260424T131143
DTSTART:20230910T000000
DTEND:20230910T000000
SUMMARY:Agenda FM - diumenge 10 de setembre 
LOCATION:
METHOD:PUBLISH
X-WR-CALNAME:ajuntament@llicamunt.cat
X-WR-TIMEZONE:Europe/Madrid
DESCRIPTION:
URI:https://www.llicamunt.cat/actualitat/agenda/agenda-fm-diumenge-10-de-setembre-.html
CLASS:PUBLIC
END:VEVENT
END:VCALENDAR
