BEGIN:VCALENDAR
VERSION:2.0
CALSCALE:GREGORIAN
PRODID:-//Diputació de Barcelona//DibaCMS//EN
BEGIN:VEVENT
UID:13165
DTSTAMP:20260424T171942
DTSTART:20230911T000000
DTEND:20230911T000000
SUMMARY:Agenda FM - dilluns 11 de setembre 
LOCATION:
METHOD:PUBLISH
X-WR-CALNAME:ajuntament@llicamunt.cat
X-WR-TIMEZONE:Europe/Madrid
DESCRIPTION:
URI:https://www.llicamunt.cat/actualitat/agenda/agenda-fm-dilluns-11-de-setembre-.html
CLASS:PUBLIC
END:VEVENT
END:VCALENDAR
