BEGIN:VCALENDAR
VERSION:2.0
CALSCALE:GREGORIAN
PRODID:-//Diputació de Barcelona//DibaCMS//EN
BEGIN:VEVENT
UID:13176
DTSTAMP:20260422T150350
DTSTART:20231006T190000
DTEND:20231006T235900
SUMMARY:Sortim a escena: "The Producers"
LOCATION:Sortida davant de l'Institut Lliçà d'Amunt 
METHOD:PUBLISH
X-WR-CALNAME:ajuntament@llicamunt.cat
X-WR-TIMEZONE:Europe/Madrid
DESCRIPTION:
URI:https://www.llicamunt.cat/actualitat/agenda/13176-sortim-a-escena-the-producers.html
CLASS:PUBLIC
END:VEVENT
END:VCALENDAR
