BEGIN:VCALENDAR
VERSION:2.0
CALSCALE:GREGORIAN
PRODID:-//Diputació de Barcelona//DibaCMS//EN
BEGIN:VEVENT
UID:13188
DTSTAMP:20260424T131106
DTSTART:20230911T000000
DTEND:20230911T000000
SUMMARY:XXXIV Cursa de la Vall del Tenes
LOCATION:
METHOD:PUBLISH
X-WR-CALNAME:ajuntament@llicamunt.cat
X-WR-TIMEZONE:Europe/Madrid
DESCRIPTION:
URI:https://www.llicamunt.cat/actualitat/agenda/xxxiv-cursa-de-la-vall-del-tenes.html
CLASS:PUBLIC
END:VEVENT
END:VCALENDAR
