BEGIN:VCALENDAR
VERSION:2.0
CALSCALE:GREGORIAN
PRODID:-//Diputació de Barcelona//DibaCMS//EN
BEGIN:VEVENT
UID:13191
DTSTAMP:20260422T140352
DTSTART:20230924T000000
DTEND:20230924T000000
SUMMARY:40a Marxa Passeig de la Vall del Tenes 2023 
LOCATION:Sortida des de Av. Països Catalans, 26 (davant del camp de futbol) 
METHOD:PUBLISH
X-WR-CALNAME:ajuntament@llicamunt.cat
X-WR-TIMEZONE:Europe/Madrid
DESCRIPTION:
URI:https://www.llicamunt.cat/actualitat/agenda/40a-marxa-passeig-de-la-vall-del-tenes-2023-.html
CLASS:PUBLIC
END:VEVENT
END:VCALENDAR
