BEGIN:VCALENDAR
VERSION:2.0
CALSCALE:GREGORIAN
PRODID:-//Diputació de Barcelona//DibaCMS//EN
BEGIN:VEVENT
UID:13194
DTSTAMP:20260422T135318
DTSTART:20230923T230000
DTEND:20230924T010000
SUMMARY:Lliksound amb Vidres a la Sang i Siroll
LOCATION:c. de l'Aliança, 17 08186 Lliçà d'Amunt
METHOD:PUBLISH
X-WR-CALNAME:ajuntament@llicamunt.cat
X-WR-TIMEZONE:Europe/Madrid
DESCRIPTION:
URI:https://www.llicamunt.cat/actualitat/agenda/lliksound-amb-vidres-a-la-sang-i-siroll.html
CLASS:PUBLIC
END:VEVENT
END:VCALENDAR
