BEGIN:VCALENDAR
VERSION:2.0
CALSCALE:GREGORIAN
PRODID:-//Diputació de Barcelona//DibaCMS//EN
BEGIN:VEVENT
UID:13195
DTSTAMP:20260422T133625
DTSTART:20230901T000000
DTEND:20231020T000000
SUMMARY:Exposició "Dibuixos del concurs de dibuix infantil de la XLIII edició de les 24 Hores de Resistència en Ciclomotors de la Vall del Tenes"
LOCATION:c. de Castelló de la Plana, 11 08186   Lliçà d'Amunt
METHOD:PUBLISH
X-WR-CALNAME:ajuntament@llicamunt.cat
X-WR-TIMEZONE:Europe/Madrid
DESCRIPTION:
URI:https://www.llicamunt.cat/actualitat/agenda/exposicio-dibuixos-del-concurs-de-dibuix-infantil-de-la-xliii-edicio-de-les-24-hores-de-resistencia-en-ciclomotors-de-la-vall-del-tenes.html
CLASS:PUBLIC
END:VEVENT
END:VCALENDAR
