BEGIN:VCALENDAR
VERSION:2.0
CALSCALE:GREGORIAN
PRODID:-//Diputació de Barcelona//DibaCMS//EN
BEGIN:VEVENT
UID:13196
DTSTAMP:20260424T155239
DTSTART:20230917T120000
DTEND:20230917T140000
SUMMARY:El Petit Lilo
LOCATION:Mercat Setmanal 
METHOD:PUBLISH
X-WR-CALNAME:ajuntament@llicamunt.cat
X-WR-TIMEZONE:Europe/Madrid
DESCRIPTION:
URI:https://www.llicamunt.cat/actualitat/agenda/el-petit-lilo.html
CLASS:PUBLIC
END:VEVENT
END:VCALENDAR
