BEGIN:VCALENDAR
VERSION:2.0
CALSCALE:GREGORIAN
PRODID:-//Diputació de Barcelona//DibaCMS//EN
BEGIN:VEVENT
UID:13225
DTSTAMP:20260422T175317
DTSTART:20231010T093000
DTEND:20231010T133000
SUMMARY:Formació SEOVT - Presentació d'Impostos: IVA i IRPF
LOCATION:En línia 
METHOD:PUBLISH
X-WR-CALNAME:ajuntament@llicamunt.cat
X-WR-TIMEZONE:Europe/Madrid
DESCRIPTION:
URI:https://www.llicamunt.cat/actualitat/agenda/formacio-seovt-presentacio-dimpostos-iva-i-irpf.html
CLASS:PUBLIC
END:VEVENT
END:VCALENDAR
