BEGIN:VCALENDAR
VERSION:2.0
CALSCALE:GREGORIAN
PRODID:-//Diputació de Barcelona//DibaCMS//EN
BEGIN:VEVENT
UID:13228
DTSTAMP:20260422T225734
DTSTART:20231026T180000
DTEND:20231026T200000
SUMMARY:"Book Cau" Cub de lectura jove
LOCATION:c. de Castelló de la Plana, 11 08186   Lliçà d'Amunt
METHOD:PUBLISH
X-WR-CALNAME:ajuntament@llicamunt.cat
X-WR-TIMEZONE:Europe/Madrid
DESCRIPTION:
URI:https://www.llicamunt.cat/actualitat/agenda/book-cau-cub-de-lectura-jove.html
CLASS:PUBLIC
END:VEVENT
END:VCALENDAR
