BEGIN:VCALENDAR
VERSION:2.0
CALSCALE:GREGORIAN
PRODID:-//Diputació de Barcelona//DibaCMS//EN
BEGIN:VEVENT
UID:13229
DTSTAMP:20260422T175440
DTSTART:20231019T180000
DTEND:20231019T200000
SUMMARY:"Club Muggle" de lectura per a infants
LOCATION:c. de Castelló de la Plana, 11 08186   Lliçà d'Amunt
METHOD:PUBLISH
X-WR-CALNAME:ajuntament@llicamunt.cat
X-WR-TIMEZONE:Europe/Madrid
DESCRIPTION:
URI:https://www.llicamunt.cat/actualitat/agenda/club-muggle-de-lectura-per-a-infants.html
CLASS:PUBLIC
END:VEVENT
END:VCALENDAR
