BEGIN:VCALENDAR
VERSION:2.0
CALSCALE:GREGORIAN
PRODID:-//Diputació de Barcelona//DibaCMS//EN
BEGIN:VEVENT
UID:13231
DTSTAMP:20260423T162348
DTSTART:20231024T173000
DTEND:20231024T200000
SUMMARY:Taller "Descobrim Picasso"
LOCATION:c. de Castelló de la Plana, 11 08186   Lliçà d'Amunt
METHOD:PUBLISH
X-WR-CALNAME:ajuntament@llicamunt.cat
X-WR-TIMEZONE:Europe/Madrid
DESCRIPTION:
URI:https://www.llicamunt.cat/actualitat/agenda/taller-descobrim-picasso.html
CLASS:PUBLIC
END:VEVENT
END:VCALENDAR
