BEGIN:VCALENDAR
VERSION:2.0
CALSCALE:GREGORIAN
PRODID:-//Diputació de Barcelona//DibaCMS//EN
BEGIN:VEVENT
UID:13236
DTSTAMP:20260422T185053
DTSTART:20231010T173000
DTEND:20231010T193000
SUMMARY:Tarda de jocs de taula - Mysterium
LOCATION:C/Castelló de la Plana, 11 08186   Lliçà d'Amunt
METHOD:PUBLISH
X-WR-CALNAME:ajuntament@llicamunt.cat
X-WR-TIMEZONE:Europe/Madrid
DESCRIPTION:
URI:https://www.llicamunt.cat/actualitat/agenda/tarda-de-jocs-de-taula-mysterium.html
CLASS:PUBLIC
END:VEVENT
END:VCALENDAR
