BEGIN:VCALENDAR
VERSION:2.0
CALSCALE:GREGORIAN
PRODID:-//Diputació de Barcelona//DibaCMS//EN
BEGIN:VEVENT
UID:13238
DTSTAMP:20260423T163844
DTSTART:20231025T170000
DTEND:20231025T193000
SUMMARY:Cuina jove - cup cakes monstruosos
LOCATION:C/Castelló de la Plana, 11 08186   Lliçà d'Amunt
METHOD:PUBLISH
X-WR-CALNAME:ajuntament@llicamunt.cat
X-WR-TIMEZONE:Europe/Madrid
DESCRIPTION:
URI:https://www.llicamunt.cat/actualitat/agenda/cuina-jove-cup-cakes-monstruosos.html
CLASS:PUBLIC
END:VEVENT
END:VCALENDAR
