BEGIN:VCALENDAR
VERSION:2.0
CALSCALE:GREGORIAN
PRODID:-//Diputació de Barcelona//DibaCMS//EN
BEGIN:VEVENT
UID:13239
DTSTAMP:20260422T204008
DTSTART:20231027T170000
DTEND:20231027T193000
SUMMARY:Tarda de cinema amb peli de terror
LOCATION:C/Castelló de la Plana, 11 08186   Lliçà d'Amunt
METHOD:PUBLISH
X-WR-CALNAME:ajuntament@llicamunt.cat
X-WR-TIMEZONE:Europe/Madrid
DESCRIPTION:
URI:https://www.llicamunt.cat/actualitat/agenda/tarda-de-cinema-amb-peli-de-terror.html
CLASS:PUBLIC
END:VEVENT
END:VCALENDAR
