BEGIN:VCALENDAR
VERSION:2.0
CALSCALE:GREGORIAN
PRODID:-//Diputació de Barcelona//DibaCMS//EN
BEGIN:VEVENT
UID:13243
DTSTAMP:20260422T215023
DTSTART:20231021T110000
DTEND:20231021T130000
SUMMARY:Contes al vol
LOCATION:c. de Castelló de la Plana, 11 08186   Lliçà d'Amunt
METHOD:PUBLISH
X-WR-CALNAME:ajuntament@llicamunt.cat
X-WR-TIMEZONE:Europe/Madrid
DESCRIPTION:
URI:https://www.llicamunt.cat/actualitat/agenda/13243-contes-al-vol.html
CLASS:PUBLIC
END:VEVENT
END:VCALENDAR
