BEGIN:VCALENDAR
VERSION:2.0
CALSCALE:GREGORIAN
PRODID:-//Diputació de Barcelona//DibaCMS//EN
BEGIN:VEVENT
UID:13244
DTSTAMP:20260422T184940
DTSTART:20231028T110000
DTEND:20231028T130000
SUMMARY:Niu de paraules "L'obrador de sorra"
LOCATION:c. de Castelló de la Plana, 11 08186   Lliçà d'Amunt
METHOD:PUBLISH
X-WR-CALNAME:ajuntament@llicamunt.cat
X-WR-TIMEZONE:Europe/Madrid
DESCRIPTION:
URI:https://www.llicamunt.cat/actualitat/agenda/niu-de-paraules-lobrador-de-sorra.html
CLASS:PUBLIC
END:VEVENT
END:VCALENDAR
