BEGIN:VCALENDAR
VERSION:2.0
CALSCALE:GREGORIAN
PRODID:-//Diputació de Barcelona//DibaCMS//EN
BEGIN:VEVENT
UID:13255
DTSTAMP:20260422T212216
DTSTART:20231028T204500
DTEND:20231028T220000
SUMMARY:Concert Coral Aliança 
LOCATION:Costa de Can Puig, s/n 08186 Lliçà d'Amunt
METHOD:PUBLISH
X-WR-CALNAME:ajuntament@llicamunt.cat
X-WR-TIMEZONE:Europe/Madrid
DESCRIPTION:
URI:https://www.llicamunt.cat/actualitat/agenda/concert-coral-alianca-.html
CLASS:PUBLIC
END:VEVENT
END:VCALENDAR
