BEGIN:VCALENDAR
VERSION:2.0
CALSCALE:GREGORIAN
PRODID:-//Diputació de Barcelona//DibaCMS//EN
BEGIN:VEVENT
UID:13266
DTSTAMP:20260422T173938
DTSTART:20231029T083000
DTEND:20231029T130000
SUMMARY:Cicle de sortides en BTT - Cànoves i Samalús
LOCATION:Sortida des del Pinar de la Riera 
METHOD:PUBLISH
X-WR-CALNAME:ajuntament@llicamunt.cat
X-WR-TIMEZONE:Europe/Madrid
DESCRIPTION:
URI:https://www.llicamunt.cat/actualitat/agenda/cicle-de-sortides-en-btt-canoves-i-samalus.html
CLASS:PUBLIC
END:VEVENT
END:VCALENDAR
