BEGIN:VCALENDAR
VERSION:2.0
CALSCALE:GREGORIAN
PRODID:-//Diputació de Barcelona//DibaCMS//EN
BEGIN:VEVENT
UID:13267
DTSTAMP:20260422T163248
DTSTART:20231026T184500
DTEND:20231026T190000
SUMMARY:Junta de Govern Local pública 
LOCATION:c. de Folch i Torres, 102 08186   Lliçà d'Amunt
METHOD:PUBLISH
X-WR-CALNAME:ajuntament@llicamunt.cat
X-WR-TIMEZONE:Europe/Madrid
DESCRIPTION:
URI:https://www.llicamunt.cat/actualitat/agenda/junta-de-govern-local-publica-.html
CLASS:PUBLIC
END:VEVENT
END:VCALENDAR
