BEGIN:VCALENDAR
VERSION:2.0
CALSCALE:GREGORIAN
PRODID:-//Diputació de Barcelona//DibaCMS//EN
BEGIN:VEVENT
UID:13270
DTSTAMP:20260422T164239
DTSTART:20231026T093000
DTEND:20231026T140000
SUMMARY:SEOVT - Entrevistes presencials amb el personal de Recursos Humans de MANGO
LOCATION:Plaça de la Vila, s/n, 2a planta 08186 Lliçà de Vall
METHOD:PUBLISH
X-WR-CALNAME:ajuntament@llicamunt.cat
X-WR-TIMEZONE:Europe/Madrid
DESCRIPTION:
URI:https://www.llicamunt.cat/actualitat/agenda/seovt-entrevistes-presencials-amb-el-personal-de-recursos-humans-de-mango.html
CLASS:PUBLIC
END:VEVENT
END:VCALENDAR
