BEGIN:VCALENDAR
VERSION:2.0
CALSCALE:GREGORIAN
PRODID:-//Diputació de Barcelona//DibaCMS//EN
BEGIN:VEVENT
UID:13273
DTSTAMP:20260422T173910
DTSTART:20231105T100000
DTEND:20231105T130000
SUMMARY:Al Mercat Setmanal celebrem la tardor, viu una Castanyada de por
LOCATION:Aparcament del carrer Aliança i Mercat setmanal 
METHOD:PUBLISH
X-WR-CALNAME:ajuntament@llicamunt.cat
X-WR-TIMEZONE:Europe/Madrid
DESCRIPTION:
URI:https://www.llicamunt.cat/actualitat/agenda/al-mercat-setmanal-celebrem-la-tardor-viu-una-castanyada-de-por.html
CLASS:PUBLIC
END:VEVENT
END:VCALENDAR
