BEGIN:VCALENDAR
VERSION:2.0
CALSCALE:GREGORIAN
PRODID:-//Diputació de Barcelona//DibaCMS//EN
BEGIN:VEVENT
UID:13274
DTSTAMP:20260422T161408
DTSTART:20231104T170000
DTEND:20231104T230000
SUMMARY:Castanyada a la Sagrera
LOCATION:Barri de la Sagrera 
METHOD:PUBLISH
X-WR-CALNAME:ajuntament@llicamunt.cat
X-WR-TIMEZONE:Europe/Madrid
DESCRIPTION:
URI:https://www.llicamunt.cat/actualitat/agenda/13274-castanyada-a-la-sagrera.html
CLASS:PUBLIC
END:VEVENT
END:VCALENDAR
