BEGIN:VCALENDAR
VERSION:2.0
CALSCALE:GREGORIAN
PRODID:-//Diputació de Barcelona//DibaCMS//EN
BEGIN:VEVENT
UID:13275
DTSTAMP:20260422T174316
DTSTART:20231104T120000
DTEND:20231104T133000
SUMMARY:Club de lectura "Conversa amb l'escriptor Xavier Bosch"
LOCATION:c. de Castelló de la Plana, 11 08186   Lliçà d'Amunt
METHOD:PUBLISH
X-WR-CALNAME:ajuntament@llicamunt.cat
X-WR-TIMEZONE:Europe/Madrid
DESCRIPTION:
URI:https://www.llicamunt.cat/actualitat/agenda/club-de-lectura-conversa-amb-lescriptor-xavier-bosch.html
CLASS:PUBLIC
END:VEVENT
END:VCALENDAR
