BEGIN:VCALENDAR
VERSION:2.0
CALSCALE:GREGORIAN
PRODID:-//Diputació de Barcelona//DibaCMS//EN
BEGIN:VEVENT
UID:13276
DTSTAMP:20260423T145625
DTSTART:20231105T120000
DTEND:20231105T133000
SUMMARY:Ballada de sardabes
LOCATION:Parc del Quiosc 
METHOD:PUBLISH
X-WR-CALNAME:ajuntament@llicamunt.cat
X-WR-TIMEZONE:Europe/Madrid
DESCRIPTION:
URI:https://www.llicamunt.cat/actualitat/agenda/ballada-de-sardabes.html
CLASS:PUBLIC
END:VEVENT
END:VCALENDAR
