BEGIN:VCALENDAR
VERSION:2.0
CALSCALE:GREGORIAN
PRODID:-//Diputació de Barcelona//DibaCMS//EN
BEGIN:VEVENT
UID:13278
DTSTAMP:20260422T213849
DTSTART:20231111T083000
DTEND:20231111T130000
SUMMARY:Cicle de sortides en BTT - Volta pels Vallesos
LOCATION:Sortida des del Pinar de la Riera 
METHOD:PUBLISH
X-WR-CALNAME:ajuntament@llicamunt.cat
X-WR-TIMEZONE:Europe/Madrid
DESCRIPTION:
URI:https://www.llicamunt.cat/actualitat/agenda/cicle-de-sortides-en-btt-volta-pels-vallesos.html
CLASS:PUBLIC
END:VEVENT
END:VCALENDAR
