BEGIN:VCALENDAR
VERSION:2.0
CALSCALE:GREGORIAN
PRODID:-//Diputació de Barcelona//DibaCMS//EN
BEGIN:VEVENT
UID:13287
DTSTAMP:20260422T174103
DTSTART:20231102T000000
DTEND:20231220T000000
SUMMARY:Exposició "Renàixer. Llavors"
LOCATION:c. de Castelló de la Plana, 11 08186   Lliçà d'Amunt
METHOD:PUBLISH
X-WR-CALNAME:ajuntament@llicamunt.cat
X-WR-TIMEZONE:Europe/Madrid
DESCRIPTION:
URI:https://www.llicamunt.cat/actualitat/agenda/exposicio-renaixer-llavors.html
CLASS:PUBLIC
END:VEVENT
END:VCALENDAR
