BEGIN:VCALENDAR
VERSION:2.0
CALSCALE:GREGORIAN
PRODID:-//Diputació de Barcelona//DibaCMS//EN
BEGIN:VEVENT
UID:13308
DTSTAMP:20260422T200938
DTSTART:20231202T100000
DTEND:20231203T000000
SUMMARY:Caça el teu Tió 2023
LOCATION:Pinar de la Riera 
METHOD:PUBLISH
X-WR-CALNAME:ajuntament@llicamunt.cat
X-WR-TIMEZONE:Europe/Madrid
DESCRIPTION:
URI:https://www.llicamunt.cat/actualitat/agenda/caca-el-teu-tio-2023.html
CLASS:PUBLIC
END:VEVENT
END:VCALENDAR
